BEGIN:VCALENDAR
VERSION:2.0
PRODID:-//Netzwerk freier Berliner Projekträume und –initiativen - ECPv6.15.12.2//NONSGML v1.0//EN
CALSCALE:GREGORIAN
METHOD:PUBLISH
X-ORIGINAL-URL:https://www.projektraeume-berlin.net
X-WR-CALDESC:Veranstaltungen für Netzwerk freier Berliner Projekträume und –initiativen
REFRESH-INTERVAL;VALUE=DURATION:PT1H
X-Robots-Tag:noindex
X-PUBLISHED-TTL:PT1H
BEGIN:VTIMEZONE
TZID:Europe/Berlin
BEGIN:DAYLIGHT
TZOFFSETFROM:+0100
TZOFFSETTO:+0200
TZNAME:CEST
DTSTART:20210328T010000
END:DAYLIGHT
BEGIN:STANDARD
TZOFFSETFROM:+0200
TZOFFSETTO:+0100
TZNAME:CET
DTSTART:20211031T010000
END:STANDARD
BEGIN:DAYLIGHT
TZOFFSETFROM:+0100
TZOFFSETTO:+0200
TZNAME:CEST
DTSTART:20220327T010000
END:DAYLIGHT
BEGIN:STANDARD
TZOFFSETFROM:+0200
TZOFFSETTO:+0100
TZNAME:CET
DTSTART:20221030T010000
END:STANDARD
BEGIN:DAYLIGHT
TZOFFSETFROM:+0100
TZOFFSETTO:+0200
TZNAME:CEST
DTSTART:20230326T010000
END:DAYLIGHT
BEGIN:STANDARD
TZOFFSETFROM:+0200
TZOFFSETTO:+0100
TZNAME:CET
DTSTART:20231029T010000
END:STANDARD
END:VTIMEZONE
BEGIN:VEVENT
DTSTART;TZID=Europe/Berlin:20221208T150000
DTEND;TZID=Europe/Berlin:20221208T190000
DTSTAMP:20260420T071716
CREATED:20221205T162246Z
LAST-MODIFIED:20221205T162246Z
UID:15292-1670511600-1670526000@www.projektraeume-berlin.net
SUMMARY:Simon Faithfull / Obiger LICHTSPIELE 
DESCRIPTION:Simon Faithfull / Obiger LICHTSPIELE\n0º00 Navigation Part I \nPublic Film Screening\n8.- 13. Dezember 2022\nvon Donnerstag bis Dienstag\, 16-20 Uhr \nDer Film „0º00 Navigation Part I“ zeigt eine obsessive und gestörte Reise genau entlang des Meridians von Greenwich. Immer von hinten gesehen\, schwimmt ein Mensch im Meer\, wo der Längengrad 0º00’00“ die Südküste Großbritanniens trifft. Er entsteigt dem Meer mit einem GPS-Gerät und läuft mit diesem direkt nach Norden entlang der 0º-Linie. Jedes Hindernis\, auf das er stößt\, wird überwunden und er bahnt sich allmählich seinen Weg durch den Südosten Großbritanniens\, durch London\, die Midlands und taucht schließlich bei Cleethorpes\, Lincolnshire\, wieder ins Meer ein\, wo er langsam in die Nordsee schwimmt. In 0º00 Navigation wird ein hypothetisches Konstrukt der Geografie so behandelt\, als sei es ein reales Phänomen – ein Weg\, der vorgezeichnet ist. Der Meridian von Greenwich halbiert Südengland\, weil er hier aus Verträgen\, Karten und der Mechanik der kolonialen Seemacht entstanden ist. \nEnglish \nThe film ‘0º00 Navigation Part I’ shows an obsessive and deranged journey exactly along the Greenwich Meridian. Always seen from behind\, a figure swims out of the sea where the 0º00’00” line of longitude hits the south-coast of Britain. The figure emerges out of the water carrying a GPS device and using this\, then proceeds to walk directly north along the 0º line. Any obstacle encountered is negotiated and he gradually makes his way up through southeast Britain\, through London\, the Midlands and ultimately re-enters the sea at Cleethorpes\, Lincolnshire\, where he slowly swims away into the North Sea. In 0º00 Navigation a hypothetical construct of geography that is is treated as if it were a real phenomenon – a path mapped out to follow. The Greenwich meridian bisects southern England because it was here that it was fabricated out of treaties\, maps and the mechanics of colonial\, naval power. \nSimon Faithfull b.1966\, UK; lives and works in Berlin.\nSimon Faithfull’s wide-ranging practice is well known internationally and his artworks are represented in many public collections including the Pompidou Centre\, France and The Government Art Collection\, UK. Faithfull studied at Central St.Martins and Reading University and is also a professor at the Slade School of Fine Art\, UCL\, London. Recent exhibitions include solo presentations at Galerie Polaris\, Paris\, Naturkunde Museum in Berlin\, and The Exchange in Penzance\, UK. His practice\, combines video\, digital-drawing\, writing and performance and has been described as an attempt to understand\, to test and to explore the planet as a sculptural object. \nObiger LICHTSPIELE\nVideokunst im Fenster von Axel Obiger\nvom 1. Dezember 2022 bis 14. Januar 2023\njeweils von 16-20 Uhr \nPROGRAMM \nDagmar Schürrer\n01.-06.12.2022 \nSimon Faithfull\n08.-13.12.2022 \nSusanne Hofer\n15.-20.12.2022 \nKatya Gardea Browne\n26.-31.12.2022 \nAchim Kobe\n02.-07.01.2023 \nIngar Krauss\n09.-14.01.2023 \nMehr Infos unter: https://www.axelobiger.com/22-10-obiger-lichtspiele
URL:https://www.projektraeume-berlin.net/termin/simon-faithfull-obiger-lichtspiele/
LOCATION:Axel Obiger\, Brunnenstraße 29\, Berlin\, Berlin\, 10119\, Deutschland
CATEGORIES:Kurzfilme,Projekt im öffentlichen Raum,Video
ATTACH;FMTTYPE=image/jpeg:https://www.projektraeume-berlin.net/wp-content/uploads/2022/12/2.Simon-Faithfull_00_text_louth_big_web2.jpg
END:VEVENT
END:VCALENDAR