BEGIN:VCALENDAR
VERSION:2.0
PRODID:-//Netzwerk freier Berliner Projekträume und –initiativen - ECPv6.15.12.2//NONSGML v1.0//EN
CALSCALE:GREGORIAN
METHOD:PUBLISH
X-WR-CALNAME:Netzwerk freier Berliner Projekträume und –initiativen
X-ORIGINAL-URL:https://www.projektraeume-berlin.net
X-WR-CALDESC:Veranstaltungen für Netzwerk freier Berliner Projekträume und –initiativen
REFRESH-INTERVAL;VALUE=DURATION:PT1H
X-Robots-Tag:noindex
X-PUBLISHED-TTL:PT1H
BEGIN:VTIMEZONE
TZID:Europe/Berlin
BEGIN:DAYLIGHT
TZOFFSETFROM:+0100
TZOFFSETTO:+0200
TZNAME:CEST
DTSTART:20220327T010000
END:DAYLIGHT
BEGIN:STANDARD
TZOFFSETFROM:+0200
TZOFFSETTO:+0100
TZNAME:CET
DTSTART:20221030T010000
END:STANDARD
BEGIN:DAYLIGHT
TZOFFSETFROM:+0100
TZOFFSETTO:+0200
TZNAME:CEST
DTSTART:20230326T010000
END:DAYLIGHT
BEGIN:STANDARD
TZOFFSETFROM:+0200
TZOFFSETTO:+0100
TZNAME:CET
DTSTART:20231029T010000
END:STANDARD
BEGIN:DAYLIGHT
TZOFFSETFROM:+0100
TZOFFSETTO:+0200
TZNAME:CEST
DTSTART:20240331T010000
END:DAYLIGHT
BEGIN:STANDARD
TZOFFSETFROM:+0200
TZOFFSETTO:+0100
TZNAME:CET
DTSTART:20241027T010000
END:STANDARD
END:VTIMEZONE
BEGIN:VEVENT
DTSTART;TZID=Europe/Berlin:20230713T180000
DTEND;TZID=Europe/Berlin:20230713T183000
DTSTAMP:20260420T065304
CREATED:20230705T131019Z
LAST-MODIFIED:20231015T131543Z
UID:16341-1689271200-1689273000@www.projektraeume-berlin.net
SUMMARY:A trans feat. Murat Haschu_ Joanna Stingray says
DESCRIPTION:The artist Murat Haschu is at home in several disciplines and combines graphics\, painting\, textile art\, animation and video. He is creating a kind of graffiti wall with image and text messages out of tufted tapestries and an animation in black and white. Current political topics such as climate change or media overload are dealt with in a subtly ironic way. Murat Haschu points us to the choice between head cinema and the Way of the Samurai. \nMurat Haschu lives and works in Halle /Saale. \nExhibition  14.07.2023 – 21.10.2023  24 hours \nFor further information:  https://www.atrans.org  |  https://www.murathaschu.com  | Facebook/Instagram: atransorg  |  @atrans  |  @murathaschu.com \nEin Teil von DRAUSSENSTADT gefördert von der  Senatsverwaltung für Kultur und Gesellschaftliche Zusammenarbeit und Stiftung für Kulturelle Weiterbildung und Kulturberatung
URL:https://www.projektraeume-berlin.net/termin/a-trans-feat-murat-haschu_-joanna-stingray-says/
LOCATION:Vitrine U-Zoologischer Garten (U9)\, Hardenbergplatz\,\, Berlin\, Berlin\, 10787\, Deutschland
CATEGORIES:Ausstellung,Installation,Projekt im öffentlichen Raum,Vernissage
ATTACH;FMTTYPE=image/jpeg:https://www.projektraeume-berlin.net/wp-content/uploads/2023/07/Haschu_Karte_Seite_1-e1698997746880.jpg
ORGANIZER;CN="A TRANS":MAILTO:in@atrans.org
END:VEVENT
END:VCALENDAR