BEGIN:VCALENDAR
VERSION:2.0
PRODID:-//Netzwerk freier Berliner Projekträume und –initiativen - ECPv6.15.12.2//NONSGML v1.0//EN
CALSCALE:GREGORIAN
METHOD:PUBLISH
X-ORIGINAL-URL:https://www.projektraeume-berlin.net
X-WR-CALDESC:Veranstaltungen für Netzwerk freier Berliner Projekträume und –initiativen
REFRESH-INTERVAL;VALUE=DURATION:PT1H
X-Robots-Tag:noindex
X-PUBLISHED-TTL:PT1H
BEGIN:VTIMEZONE
TZID:Europe/Berlin
BEGIN:DAYLIGHT
TZOFFSETFROM:+0100
TZOFFSETTO:+0200
TZNAME:CEST
DTSTART:20210328T010000
END:DAYLIGHT
BEGIN:STANDARD
TZOFFSETFROM:+0200
TZOFFSETTO:+0100
TZNAME:CET
DTSTART:20211031T010000
END:STANDARD
BEGIN:DAYLIGHT
TZOFFSETFROM:+0100
TZOFFSETTO:+0200
TZNAME:CEST
DTSTART:20220327T010000
END:DAYLIGHT
BEGIN:STANDARD
TZOFFSETFROM:+0200
TZOFFSETTO:+0100
TZNAME:CET
DTSTART:20221030T010000
END:STANDARD
BEGIN:DAYLIGHT
TZOFFSETFROM:+0100
TZOFFSETTO:+0200
TZNAME:CEST
DTSTART:20230326T010000
END:DAYLIGHT
BEGIN:STANDARD
TZOFFSETFROM:+0200
TZOFFSETTO:+0100
TZNAME:CET
DTSTART:20231029T010000
END:STANDARD
END:VTIMEZONE
BEGIN:VEVENT
DTSTART;TZID=Europe/Berlin:20220325T160000
DTEND;TZID=Europe/Berlin:20220325T210000
DTSTAMP:20260420T000111
CREATED:20220321T131905Z
LAST-MODIFIED:20220321T132039Z
UID:14657-1648224000-1648242000@www.projektraeume-berlin.net
SUMMARY:Die Obiger Galaxis - Gruppenausstellung
DESCRIPTION:Eröffnung am Freitag\, den 25. März 2022\, 17 – 22 Uhr\nAusstellung 26. März – 29. April 2022 \nBegleitveranstaltungen zur Ausstellung:\nAusstellungsführungen am 16. und 23. April 2022\, 18 – 19 Uhr\nFinissage am Freitag\, den 29. April 2022\, 18 – 23 Uhr \n  \nDie Obiger Galaxis als artistisches Wimmelbild.\nJeder von der Stammbesatzung hat befreundete bildende Art-Genossinnen zu dieser Gruppenausstellung eingeladen. \nAm 25.03. ab 17 Uhr ist Erscheinen für alle Pflicht\, unter Beibringung eines eigenen Werks\, welches dann vor Ort persönlich platziert und präsentiert werden wird\, in friedlicher und dynamischer Koexistenz mit den anderen. Die Vernissage als Event chaotischer\, kontaktfreundlicher Kuration. Die Finissage dann ebenso nur andersrum. \nAusmaß und Beschaffenheit dieses künstlerischen Kosmos werden vergnüglich sichtbar oder wie schon eine Werbe-Prophetie im vorigen Jahrtausendend es trefflich formulierte: Milky Way – so locker und leicht – schwimmt sogar in Milch… \nMaria Anwander • Ruben Aubrecht • Claudia Balsters und Hannah Goldstein • Antje Blumenstein • Anne Brannys • Alke Brinkmann • Claudia Busching • Martin Dörbaum • Cécile Dupaquier • Lara Faroqhi • Saeed Foroghi • Anne Gathmann • Nathalie Grenzhaeuser • Harriet Groß • Philipp Hennevogl • Peter Hock • Katrin Jaquet • Anne Kaminsky • Petra Karadimas • Julia Kissina • Achim Kobe • Andreas Koch • Gabriele Künne • Leyre Lasierra Viguri • Jorge Lopes • Wolfgang Matzat • Alexander Menegotto • Thomas Monses • Matthias Moravek • Rainer Neumeier • Oliver Neumann • Enrico Niemann • Jennifer Oellerich • Kristina Popov • Frederik Poppe • Mariel Poppe • Heinz Pranter • Maja Rohwetter • Stefan Roigk • Miguel Rothschild • Nadja Schöllhammer • Stefan Schwarzmüller • Zuzanna Zita Skiba • Hans-Peter Stark • Craig Stewart • Petra Tödter • Dagmar Tränkle • Lukas Troberg • Anke Voelk • Nicole Wendel • Elmar Zimmermann • Christof Zwiener
URL:https://www.projektraeume-berlin.net/termin/die-obiger-galaxis/
LOCATION:Axel Obiger\, Brunnenstraße 29\, Berlin\, Berlin\, 10119\, Deutschland
CATEGORIES:Ausstellung,Vernissage
ATTACH;FMTTYPE=image/jpeg:https://www.projektraeume-berlin.net/wp-content/uploads/2022/03/Obiger-Galaxis-Instagram-2.jpg
END:VEVENT
END:VCALENDAR