BEGIN:VCALENDAR
VERSION:2.0
PRODID:-//Netzwerk freier Berliner Projekträume und –initiativen - ECPv6.15.12.2//NONSGML v1.0//EN
CALSCALE:GREGORIAN
METHOD:PUBLISH
X-WR-CALNAME:Netzwerk freier Berliner Projekträume und –initiativen
X-ORIGINAL-URL:https://www.projektraeume-berlin.net
X-WR-CALDESC:Veranstaltungen für Netzwerk freier Berliner Projekträume und –initiativen
REFRESH-INTERVAL;VALUE=DURATION:PT1H
X-Robots-Tag:noindex
X-PUBLISHED-TTL:PT1H
BEGIN:VTIMEZONE
TZID:Europe/Berlin
BEGIN:DAYLIGHT
TZOFFSETFROM:+0100
TZOFFSETTO:+0200
TZNAME:CEST
DTSTART:20250330T010000
END:DAYLIGHT
BEGIN:STANDARD
TZOFFSETFROM:+0200
TZOFFSETTO:+0100
TZNAME:CET
DTSTART:20251026T010000
END:STANDARD
BEGIN:DAYLIGHT
TZOFFSETFROM:+0100
TZOFFSETTO:+0200
TZNAME:CEST
DTSTART:20260329T010000
END:DAYLIGHT
BEGIN:STANDARD
TZOFFSETFROM:+0200
TZOFFSETTO:+0100
TZNAME:CET
DTSTART:20261025T010000
END:STANDARD
BEGIN:DAYLIGHT
TZOFFSETFROM:+0100
TZOFFSETTO:+0200
TZNAME:CEST
DTSTART:20270328T010000
END:DAYLIGHT
BEGIN:STANDARD
TZOFFSETFROM:+0200
TZOFFSETTO:+0100
TZNAME:CET
DTSTART:20271031T010000
END:STANDARD
END:VTIMEZONE
BEGIN:VEVENT
DTSTART;TZID=Europe/Berlin:20260116T190000
DTEND;TZID=Europe/Berlin:20260116T220000
DTSTAMP:20260423T111735
CREATED:20251211T151645Z
LAST-MODIFIED:20251211T151856Z
UID:17627-1768590000-1768600800@www.projektraeume-berlin.net
SUMMARY:Vernissage "Madness and Practice" Liz Dawson + Lucy Teasdale
DESCRIPTION:Madness and Practice\nLiz Dawson + Lucy Teasdale\nEröffnung: Freitag\, 16. Januar\, 19 Uhr\n17. Januar – 7. Februar 2026 \nIn „Madness and Practice“ eröffnen uns Liz Dawson mit Malerei und Zeichnung und Lucy Teasdale mit ihren Skulpturen einen Raum\, in dem Gesten\, Oberflächen und Fragmente sich ineinander verfalten und auf ihren Ursprung zurückgeworfen werden. Sie erzählen von Beharrlichkeit\, die in minimalen aber bewussten Verschiebungen zu Tage tritt. \nUnd so offenbaren Markierungen\, die zunächst den Eindruck erwecken\, auf die Schnelle gesetzt worden zu sein\, zusammen mit fast nachgiebig wirkenden Formen wie sich unter dem Auge der Sorgfalt das vermeintlich Vergebliche zu etwas atemberaubend Poetischem verwandelt. \nEnglish \nIn Madness and Practice\, Liz Dawson’s paintings and drawings and Lucy Teasdale’s sculptures draw us into a space where gestures\, surfaces\, and fragments fold back onto themselves\, narrating a persistence in small but deliberate shifts. Marks that initially suggest they were quickly made and forms that appear pliable reveal how the seemingly futile can overlap with an attentiveness that is breathtakingly poetic. (Text: Ilyn Wong) \n@lizdawsonberlin\n@lucy_teasdale
URL:https://www.projektraeume-berlin.net/termin/vernissage-madness-and-practice-liz-dawson-lucy-teasdale/
LOCATION:Axel Obiger\, Brunnenstraße 29\, Berlin\, Berlin\, 10119\, Deutschland
CATEGORIES:Ausstellung,Drawing,Malerei,Skulptur,Vernissage
ATTACH;FMTTYPE=image/jpeg:https://www.projektraeume-berlin.net/wp-content/uploads/2025/12/LizLucy_Querformat-web-e1769070269412.jpg
END:VEVENT
END:VCALENDAR