BEGIN:VCALENDAR
VERSION:2.0
PRODID:-//Netzwerk freier Berliner Projekträume und –initiativen - ECPv6.15.12.2//NONSGML v1.0//EN
CALSCALE:GREGORIAN
METHOD:PUBLISH
X-WR-CALNAME:Netzwerk freier Berliner Projekträume und –initiativen
X-ORIGINAL-URL:https://www.projektraeume-berlin.net
X-WR-CALDESC:Veranstaltungen für Netzwerk freier Berliner Projekträume und –initiativen
REFRESH-INTERVAL;VALUE=DURATION:PT1H
X-Robots-Tag:noindex
X-PUBLISHED-TTL:PT1H
BEGIN:VTIMEZONE
TZID:Europe/Berlin
BEGIN:DAYLIGHT
TZOFFSETFROM:+0100
TZOFFSETTO:+0200
TZNAME:CEST
DTSTART:20210328T010000
END:DAYLIGHT
BEGIN:STANDARD
TZOFFSETFROM:+0200
TZOFFSETTO:+0100
TZNAME:CET
DTSTART:20211031T010000
END:STANDARD
BEGIN:DAYLIGHT
TZOFFSETFROM:+0100
TZOFFSETTO:+0200
TZNAME:CEST
DTSTART:20220327T010000
END:DAYLIGHT
BEGIN:STANDARD
TZOFFSETFROM:+0200
TZOFFSETTO:+0100
TZNAME:CET
DTSTART:20221030T010000
END:STANDARD
BEGIN:DAYLIGHT
TZOFFSETFROM:+0100
TZOFFSETTO:+0200
TZNAME:CEST
DTSTART:20230326T010000
END:DAYLIGHT
BEGIN:STANDARD
TZOFFSETFROM:+0200
TZOFFSETTO:+0100
TZNAME:CET
DTSTART:20231029T010000
END:STANDARD
END:VTIMEZONE
BEGIN:VEVENT
DTSTART;TZID=Europe/Berlin:20220128T160000
DTEND;TZID=Europe/Berlin:20220128T210000
DTSTAMP:20260424T023617
CREATED:20220114T181051Z
LAST-MODIFIED:20220115T144454Z
UID:14519-1643385600-1643403600@www.projektraeume-berlin.net
SUMMARY:Satellit#14 / un-structured. Kuratiert von Daniela von Damaros
DESCRIPTION:Ausstellung mit Werken von Harriet Groß\, Sarah Loibl\, Enrico Niemann\, Keren Shalev \nEröffnung am Freitag\, den 28. Januar 2022\, ab 17 Uhr\nAusstellungszeiten 29. Januar – 12. März 2022 \nBegleitveranstaltungen zur Ausstellung: \nAusstellungsführung am Samstag\, 5. Februar 2022\, 18–19 Uhr \nWorkshop zu Sol LeWitt’s „Open Cubes“ am Samstag\, 12. Februar 2022\, 10–13 Uhr \nFinissage am Samstag\, den 12. März 2022\, 18–21 Uhr \nIn der Gruppenausstellung mit dem Titel „un-structured“ werden Arbeiten der vier Künstler*innen Harriet Groß\, Sarah Loibl\, Enrico Niemann und Keren Shalev zu sehen sein. Alle Exponate sprengen mittels einer installativen Geste die Grenzen ihres Mediums\, wie das der Malerei\, Skulptur und Zeichnung. In der Gleichzeitigkeit von strukturellen Prinzipien wie Chaos und Ordnung findet sich ihre Bildsprache. Der Betrachtende kann in der Ausstellung in die Dynamiken zwischen den beiden scheinbar konträren Prinzipien eintauchen. \n– English Text –\nThe group exhibition entitled “un-structured” will feature works by the four artists Harriet Groß\, Sarah Loibl\, Enrico Niemann and Keren Shalev. By means of an installative gesture\, all exhibits break the boundaries of their medium\, such as painting\, sculpture and drawing. Their visual language is found in the simultaneity of structural principles such as chaos and order. In the exhibition\, the viewer can immerse in the dynamics between the two seemingly contrary principles.
URL:https://www.projektraeume-berlin.net/termin/satellit14-un-structured-kuratiert-von-daniela-von-damaros/
LOCATION:Axel Obiger\, Brunnenstraße 29\, Berlin\, Berlin\, 10119\, Deutschland
CATEGORIES:Ausstellung,Vernissage
ATTACH;FMTTYPE=image/jpeg:https://www.projektraeume-berlin.net/wp-content/uploads/2022/01/Variante2_Karte_Satellit14web72dpi.jpg
END:VEVENT
END:VCALENDAR