BEGIN:VCALENDAR
VERSION:2.0
PRODID:-//Netzwerk freier Berliner Projekträume und –initiativen - ECPv6.15.12.2//NONSGML v1.0//EN
CALSCALE:GREGORIAN
METHOD:PUBLISH
X-WR-CALNAME:Netzwerk freier Berliner Projekträume und –initiativen
X-ORIGINAL-URL:https://www.projektraeume-berlin.net
X-WR-CALDESC:Veranstaltungen für Netzwerk freier Berliner Projekträume und –initiativen
REFRESH-INTERVAL;VALUE=DURATION:PT1H
X-Robots-Tag:noindex
X-PUBLISHED-TTL:PT1H
BEGIN:VTIMEZONE
TZID:Europe/Berlin
BEGIN:DAYLIGHT
TZOFFSETFROM:+0100
TZOFFSETTO:+0200
TZNAME:CEST
DTSTART:20210328T010000
END:DAYLIGHT
BEGIN:STANDARD
TZOFFSETFROM:+0200
TZOFFSETTO:+0100
TZNAME:CET
DTSTART:20211031T010000
END:STANDARD
BEGIN:DAYLIGHT
TZOFFSETFROM:+0100
TZOFFSETTO:+0200
TZNAME:CEST
DTSTART:20220327T010000
END:DAYLIGHT
BEGIN:STANDARD
TZOFFSETFROM:+0200
TZOFFSETTO:+0100
TZNAME:CET
DTSTART:20221030T010000
END:STANDARD
BEGIN:DAYLIGHT
TZOFFSETFROM:+0100
TZOFFSETTO:+0200
TZNAME:CEST
DTSTART:20230326T010000
END:DAYLIGHT
BEGIN:STANDARD
TZOFFSETFROM:+0200
TZOFFSETTO:+0100
TZNAME:CET
DTSTART:20231029T010000
END:STANDARD
END:VTIMEZONE
BEGIN:VEVENT
DTSTART;TZID=Europe/Berlin:20221201T150000
DTEND;TZID=Europe/Berlin:20221201T190000
DTSTAMP:20260422T103934
CREATED:20221123T124003Z
LAST-MODIFIED:20221130T135334Z
UID:15250-1669906800-1669921200@www.projektraeume-berlin.net
SUMMARY:Obiger LICHTSPIELE . Public Film Screening 1.12.2022-14.1.2023
DESCRIPTION:vom 1. Dezember 2022 bis 14. Januar 2023.\nVideokunst im Fenster von Axel Obiger\, jeweils von 16-20 Uhr \nPROGRAMM \nDagmar Schürrer\n01.-06.12.2022 \nSimon Faithfull\n08.-13.12.2022 \nSusanne Hofer\n15.-20.12.2022 \nKatya Gardea Browne\n26.-31.12.2022 \nAchim Kobe\n2.-7.01.2023 \nIngar Krauss\n9.-14.01.2023
URL:https://www.projektraeume-berlin.net/termin/obiger-lichtspiele-public-film-screening/
LOCATION:Axel Obiger\, Brunnenstraße 29\, Berlin\, Berlin\, 10119\, Deutschland
CATEGORIES:Digital Art,Film,Kurzfilme,Projekt im öffentlichen Raum,Screening,Video
ATTACH;FMTTYPE=image/jpeg:https://www.projektraeume-berlin.net/wp-content/uploads/2022/11/obiger_lichtspiele_quadrat_offen_neu_web-scaled.jpg
END:VEVENT
END:VCALENDAR