BEGIN:VCALENDAR
VERSION:2.0
PRODID:-//Netzwerk freier Berliner Projekträume und –initiativen - ECPv6.15.12.2//NONSGML v1.0//EN
CALSCALE:GREGORIAN
METHOD:PUBLISH
X-WR-CALNAME:Netzwerk freier Berliner Projekträume und –initiativen
X-ORIGINAL-URL:https://www.projektraeume-berlin.net
X-WR-CALDESC:Veranstaltungen für Netzwerk freier Berliner Projekträume und –initiativen
REFRESH-INTERVAL;VALUE=DURATION:PT1H
X-Robots-Tag:noindex
X-PUBLISHED-TTL:PT1H
BEGIN:VTIMEZONE
TZID:Europe/Berlin
BEGIN:DAYLIGHT
TZOFFSETFROM:+0100
TZOFFSETTO:+0200
TZNAME:CEST
DTSTART:20240331T010000
END:DAYLIGHT
BEGIN:STANDARD
TZOFFSETFROM:+0200
TZOFFSETTO:+0100
TZNAME:CET
DTSTART:20241027T010000
END:STANDARD
BEGIN:DAYLIGHT
TZOFFSETFROM:+0100
TZOFFSETTO:+0200
TZNAME:CEST
DTSTART:20250330T010000
END:DAYLIGHT
BEGIN:STANDARD
TZOFFSETFROM:+0200
TZOFFSETTO:+0100
TZNAME:CET
DTSTART:20251026T010000
END:STANDARD
BEGIN:DAYLIGHT
TZOFFSETFROM:+0100
TZOFFSETTO:+0200
TZNAME:CEST
DTSTART:20260329T010000
END:DAYLIGHT
BEGIN:STANDARD
TZOFFSETFROM:+0200
TZOFFSETTO:+0100
TZNAME:CET
DTSTART:20261025T010000
END:STANDARD
END:VTIMEZONE
BEGIN:VEVENT
DTSTART;TZID=Europe/Berlin:20251009T190000
DTEND;TZID=Europe/Berlin:20251009T210000
DTSTAMP:20260423T094813
CREATED:20250926T170727Z
LAST-MODIFIED:20250926T170727Z
UID:17521-1760036400-1760043600@www.projektraeume-berlin.net
SUMMARY:Finissage + Event mit Andreas Reihse & Seda Mimaroğlu (Sound & Spoken Word)
DESCRIPTION:Finissage + Event mit Andreas Reihse & Seda Mimaroğlu (Sound & Spoken Word) \n9. Oktober 2025\, 19 Uhr \nThis is the place you told me about\nbis zum 11.10.2025 \nGruppenausstellung mit Dana Engfer\, Christoph Kilian\, Lucy König\, Gabriele Künne\, Taiyoh Mori\, Enrico Niemann\, Miriam Salamander\, Fiene Scharp. Kuratiert von Cassandra Mehlhorn \nPlease scroll down for English version \nİkili sind Seda Mimaroğlu und Andreas Reihse. \nSeit 2016 kollaborieren SEDA MIMAROĞLU und ANDREAS REIHSE. Ihre erste Veröffentlichung war das Album Loose Leaves (Wanda\, 2018)\, auf dem Reihse Gedichte von Mimaroğlu vertonte. Es folgten Performances bei Image Movement\, Hopscotch\, Arkaoda\, Periode und im Morphine Raum\, neben DJ Sets bei Herz\, Rauschgold und Arkaoda. Weitere Stücke erschienen auf Karl Marx’s 200th!\, Multiverse und Tree Aid – Emmauswald bleibt!. Und zu Mimaroğlus Buch Love Songs (Blue Figure Press\, 2021) schrieb Reihse das Nachwort.\nFür die nächsten Monate sind drei Tonträgerveröffentlichungen geplant. \nSEDA MIMAROĞLU ist eine Künstlerin und Dichtern aus Istanbul\, die sowohl mit Text\, Ton als auch Bild arbeitet. Mit einem Hintergrund in Literatur\, Kunstgeschichte\, Rechtswissenschaften und Philosophie entwickelt sie Ausstellungen\, Publikationen und Performances oft in Zusammenarbeit mit anderen Künstler_innen\, Musiker_innen und Forscher_innen. Mimaroğlu betreibt den Projektraum maḳām in Berlin.\n[sedamimaroglu.com] \nANDREAS REIHSE ist ein in Berlin lebender Künstler\, am bekanntesten als (elektronischer) Musiker und Komponist\, sowie als Gründungsmitglied von Kreidler und Periode. Zu seiner künstlerischen Praxis gehört auch Textarbeit\, Design\, Zeichnung\, Film und Kuratieren. Reihse hat mit einer Vielzahl von Musiker_innen\, bildenden Künstler_innen\, Filmemacher_innen\, Autor_innen und Modedesigner_innen zusammengearbeitet – für Filme\, Theaterstücke\, Performances und Installationen. [reihse.de] \n\n\n \nThis is the place you told me about \nDie Gruppenausstellung „This is the place you told me about“ vereint acht künstlerische Positionen\, die sich mit dem Thema Fragilität/Verletzlichkeit als materielles und immaterielles Phänomen auseinandersetzen. Multiperspektivisch und interdisziplinär fangen sie den Moment des Aufeinandertreffen von Innen und Außen ein und visualisieren ihn in einer reduzierten und leisen Sprache. \nDie ausgewählten Kunstwerke erzählen von Schutzräumen\, Schwellen und Zwischenzuständen und markieren physische Grenzen an sensiblen Objekten\, die in einem Wechselspiel von abstrakt und konkret\, von Verstecken und Suchen\, eine Welt von imaginären Begegnungen hervorrufen. \nPräsentiert in unterschiedlichen Disziplinen – von Zeichnung und Malerei bis hin zu Bildhauerei und Installation – können fast alle Kunstwerke als dreidimensionale Werke betrachtet werden\, die sowohl physisch als auch konzeptionell auf ihre Umgebung reagieren. Die Medien Fotografie und Video werden vor allem dokumentarisch eingesetzt und erweitern und reflektieren die Dichotomie von Innen und Außen. \nObwohl sich die einzelnen\, sorgfältig mit Hand gefertigten Kunstwerke in ihrer Vielfalt an Formen und Materialien unterscheiden\, verbindet sie eine gewisse Sprache und Einfachheit. Durch ihre Gegenüberstellung und in einen Dialog zueinander gesetzt offenbaren sie eine unverkennbare Verwandtschaft. \nDana Engfer\, Christoph Kilian\, Lucy König\, Gabriele Künne\, Taiyoh Mori\, Enrico Niemann\, Miriam Salamander\, Fiene Scharp. Kuratiert von Cassandra Mehlhorn \nCVs \nAXEL OBIGER . Raum Für Zeitgenössische Kunst . Brunnenstr. 29 . 10119 Berlin Mitte . Do – Sa 15-19 Uhr und nach Vereinbarung . axelobiger.com . @axelobiger \nEnglish \nİkili is the duo of Seda Mimaroğlu and Andreas Reihse. \nMIMAROĞLU and REIHSE have been collaborating since 2016. Their first release was the album Loose Leaves (Wanda\, 2018)\, on which Reihse set Mimaroğlu’s poems to music. This was followed by performances at Image Movement\, Hopscotch\, Arkaoda\, Periode\, and Morphine Raum\, as well as DJ sets at Herz\, Rauschgold and Arkaoda. Further pieces appeared on the compilations Karl Marx’s 200th!\, Multiverse\, and Tree Aid – Emmauswald bleibt!. Reihse also wrote the afterword to Mimaroğlu’s book Love Songs (Blue Figure Press\, 2021).\nThree new releases are planned for the coming months. \nSEDA MIMAROĞLU artist and poet from Istanbul\, works across text\, sound\, and image. With a background in literature\, art history\, law and philosophy\, her exhibitions\, publications\, and performances often emerge in collaboration with other artists\, musicians\, and researchers. She runs the project space Makam in Berlin.\n[sedamimaroglu.com] \nANDREAS REIHSE is an artist living in Berlin\, best known as (electronic) musician and composer\, as well as a founding member of Kreidler and Periode. His artistic practice also encompasses text\, design\, drawing\, film and curating. Reihse has collaborated with a wild range of musicians\, visual artists\, filmmakers\, authors\, and fashion designers on films\, plays\, performances and installations. [reihse.de] \nThis is the place you told me about\n13.09. – 11.10.2025 \nThe group exhibition „This is the place you told me about“ brings together eight artistic practices that address the theme of fragility/vulnerability as a material and immaterial phenomenon. In multi-perspective and multi-disciplinary ways they capture the moment when inside and outside meet\, and visualize it in a reduced and gentle language. \nThe selected artworks tell about shelters\, thresholds\, and in-between states. They mark physical boundaries on vulnerable objects\, which\, in an interplay between the abstract and the concrete\, between the act of hiding and seeking\, evoke an imaginary world of encounters. \nPresented in a variety of disciplines—from drawing and painting to sculpture and installation—almost all the artworks can be seen as three-dimensional works that respond both physically and conceptually to their surroundings. The medium of photography and video are used primarily in a documentary sense\, expanding and reflecting on the dichotomy of ‘inside’ and ‘outside’.\nEven though all featured meticulously hand-crafted artworks differ in their variety of shapes and materials\, they have a certain visual vocabulary and simplicity in common. Juxtaposed and placed in dialogue\, they reveal an undeniable kinship to each other. \nDana Engfer\, Christoph Kilian\, Lucy König\, Gabriele Künne\, Taiyoh Mori\, Enrico Niemann\, Miriam Salamander\, Fiene Scharp. Curated by Cassandra Mehlhorn \nAXEL OBIGER – Raum für zeitgenössische Kunst . Brunnenstr. 29\, 10119 Berlin Mitte . Th – Sa 3–7 pm and by appointment . axelobiger.com . @axelobiger
URL:https://www.projektraeume-berlin.net/termin/finissage-event-mit-andreas-reihse-seda-mimaroglu-sound-spoken-word/
LOCATION:Axel Obiger\, Brunnenstraße 29\, Berlin\, Berlin\, 10119\, Deutschland
CATEGORIES:Artists Talk,Finissage,Musik,Performative lecture
ATTACH;FMTTYPE=image/jpeg:https://www.projektraeume-berlin.net/wp-content/uploads/2025/09/Event-with-Andreas-Reihse-Seda-Mimaroglu-e1759654296817.jpg
END:VEVENT
BEGIN:VEVENT
DTSTART;TZID=Europe/Berlin:20251017T190000
DTEND;TZID=Europe/Berlin:20251017T220000
DTSTAMP:20260423T094813
CREATED:20251004T153750Z
LAST-MODIFIED:20251015T125705Z
UID:17528-1760727600-1760738400@www.projektraeume-berlin.net
SUMMARY:Vernissage Inceptive Spaces - kuratiert von Saeed Foroghi
DESCRIPTION:Inceptive Spaces \nGruppenausstellung von\nAtelierhaus Hobrecht31 \nJakob Argauer / Peter Behrbohm\nThilo Droste / Saeed Foroghi\nKalinka Gieseler / Michael Hauffen\nThomas Hauser / Kathrin Köster\nChristof Kraus / Pia Lanzinger\nAlexander Lieck / Joana Lucas\nPierre-Etienne Morelle / Anton Steenbock\nMarie Strauß / Bettina Wächter \nKuratiert von Saeed Foroghi \nAusstellung\n18. Oktober 2025 – 10. Januar 2026 \nVernissage\nFreitag\, 17. Oktober\, 19 Uhr \nArtist Talk\nFreitag\, 7. November 18 Uhr \nDie Ausstellung Inceptive Spaces richtet den Fokus auf Ateliers als initiierende Räume\, in denen Kunst ihren Anfang nimmt. Hier wirken Künstler:innen wie Seismografen und verarbeiten die Schwingungen der Gesellschaft. Im Gegensatz zu den „exceptive spaces“ – Museen und Galerien als Orte der Präsentation – bleiben diese Entstehungsprozesse meist verborgen\, wie in einer Black Box. Die Ausstellung versucht\, diese Box zu öffnen: Spuren der Produktion treten neben fertige Werke und machen erfahrbar\, dass Kunst nicht plötzlich entsteht\, sondern Zeit\, Raum und Pflege braucht. An Nelson Goodmans Frage „Wann ist Kunst?“ anknüpfend\, wird deutlich: Der entscheidende Moment liegt am Anfang\, im Atelier. Ohne inceptive spaces verkümmern langfristig auch die exceptive spaces. Sie sind das Fundament kulturellen Schaffens – wie Wälder\, die einer Stadt Schatten spenden und ihr dauerhaftes Wachstum sichern. \nEnglish \nThe exhibition Inceptive Spaces focuses on studios as generative spaces where art begins. Here\, artists act like seismographs\, processing the vibrations of society. In contrast to “exceptive spaces” – museums and galleries as sites of presentation – these formative processes usually remain hidden\, like a black box. The exhibition seeks to open this box: traces of production appear alongside finished works\, showing that art does not emerge suddenly but requires time\, space\, and care. Building on Nelson Goodman’s question “When is art?”\, it becomes clear that the decisive moment lies at the beginning\, in the studio. Without inceptive spaces\, exceptive spaces will eventually wither. They are the foundation of cultural creation – like forests that give shade to a city and secure its lasting growth. \nConcept and curation: Saeed Foroghi \nAXEL OBIGER – Raum für zeitgenössische Kunst . Brunnenstr. 29\, 10119 Berlin Mitte . Th – Sa 3–7 pm and by appointment . axelobiger.com . @axelobiger
URL:https://www.projektraeume-berlin.net/termin/vernissage-inceptive-spaces/
LOCATION:Axel Obiger\, Brunnenstraße 29\, Berlin\, Berlin\, 10119\, Deutschland
CATEGORIES:Ausstellung,Drawing,Fotografie,Malerei,Vernissage
ATTACH;FMTTYPE=image/jpeg:https://www.projektraeume-berlin.net/wp-content/uploads/2025/10/Flyer-horizontal-scaled-e1759654315582.jpg
END:VEVENT
BEGIN:VEVENT
DTSTART;TZID=Europe/Berlin:20251018T150000
DTEND;TZID=Europe/Berlin:20251018T190000
DTSTAMP:20260423T094813
CREATED:20251018T154628Z
LAST-MODIFIED:20251104T155555Z
UID:17531-1760799600-1760814000@www.projektraeume-berlin.net
SUMMARY:Inceptive Spaces - Group exhibition by Atelierhaus Hobrecht31
DESCRIPTION:Inceptive Spaces \nGruppenausstellung von\nAtelierhaus Hobrecht31 \nJakob Argauer / Peter Behrbohm\nThilo Droste / Saeed Foroghi\nKalinka Gieseler / Michael Hauffen\nThomas Hauser / Kathrin Köster\nChristof Kraus / Pia Lanzinger\nAlexander Lieck / Joana Lucas\nPierre-Etienne Morelle / Anton Steenbock\nMarie Strauß / Bettina Wächter \nKuratiert von Saeed Foroghi \nAusstellung\n18. Oktober 2025 – 10. Januar 2026 \nArtist Talk\nFreitag\, 5. Dezember\, 19 Uhr \nInceptive spaces sind initiierende Räume – Ateliers und Studios von Künstler:innen\, in denen Werke entstehen. Hier wirken Künstler:innen wie Seismografen und verarbeiten die Schwingungen der Gesellschaft. Es sind Schutz-\, Experimentier-\, Räsonier-\, Ausdrucks- und Resonanzräume\, in denen Gedanken wie Samenkörner auf fruchtbaren Boden fallen und – wenn gepflegt und gefördert – wie ein Baum Wurzeln schlagen\, wachsen\, sich verästeln und schließlich aufblühen können. Atelierhäuser wie die Hobrechtstraße 31 sind in diesem Sinne Kunstwälder\, die in überhitzten Städten wie Berlin Schatten spenden und zum Verweilen\, Kontemplieren und Hinterfragen einladen. \nIm Gegensatz dazu stehen Ausstellungsräume wie Galerien und Museen – exceptive spaces\, aus dem Alltag herausgehobene Räume der Präsentation und Rezeption. Von den inceptive spaces zu den exceptive spaces ist es meist ein langer Weg. Wie eine Black Box mutet der Übergang von einem Ort zum anderen: verborgen bleibt\, was in den Ateliers geschieht\, wie Gedanken sich formen\, wie Materialien Widerstand leisten und wie aus Versuchen Werke entstehen. \nDie Ausstellung Inceptive Spaces versucht\, diese Black Box zu öffnen und sichtbar zu machen\, was normalerweise unsichtbar bleibt: Prozesse\, Atmosphären und Fragmente\, die den Beginn von Kunst markieren. „Wann ist Kunst?“\, eine modifizierte Version der zentralen Frage „Was ist Kunst?“ des US-amerikanischen Philosophen Nelson Goodman\, macht deutlich\, dass der Kunststatus eines Objekts stark vom Kontext abhängt – meist von Präsentationsräumen. Diese Ausstellung kehrt die Perspektive um: Nicht der Ausstellungsraum\, sondern der Produktionsraum – das Atelier – wird zum entscheidenden Kontext. „Wann ist Kunst?“ – hier lautet die Antwort: am Anfang\, im Entstehungsprozess. Wie ein „Raum im Raum“ treten Produktions- und Präsentationsräume in Dialog. Spuren der Ateliers treten neben fertige Arbeiten und machen erfahrbar\, dass Kunst nicht plötzlich entsteht\, sondern aus Prozessen hervorgeht\, die Zeit\, Raum und Pflege benötigen. Dieser Dialog kann nur gelingen\, wenn beide Räume gleichzeitig existieren. Ohne inceptive spaces wird es langfristig keine exceptive spaces geben. Sie sind die Grundlage dessen\, was wir als Kultur wahrnehmen – doch dafür braucht es Zeit und Raum zum Wachsen. Kunst- und Kulturschaffen ist immer auch Kunst- und Kulturwerden. \nEin Absterben der Anfänge führt unweigerlich zum Verkümmern der Institutionen\, die am Ende Kunst zeigen wollen. Wie in der Natur ist es auch in der Kultur wichtig\, ökologische und ökonomische Nachhaltigkeit zu praktizieren: dem Drang zu widerstehen\, kurzfristige Gewinne über die langfristigen Kosten für die Gesellschaft zu stellen. Denn genauso wie der Klimawandel wird uns sonst der Wandel des gesellschaftlichen Klimas\, den wir bereits spüren\, teuer zu stehen kommen. \nEine Stadt\, die inceptive spaces wie die Hobrechtstraße 31 aufgibt\, entzieht sich selbst den Nährboden und liegt am Ende brach. Wir sollten vermeiden\, die Wälder zu lichten\, weil wir vor lauter Bäumen den Wald nicht mehr zu sehen vermögen. \nSerkan Gören & Saeed Foroghi \nEnglish \nInceptive spaces are generative spaces – artists’ studios and workshops where artworks are created. Here\, artists take on the function of seismographs\, processing the undercurrents running through society. They are spaces for protection\, experimentation\, reasoning\, expression\, and resonance\, where ideas fall like seeds onto fertile ground and – when nurtured and supported – can take root\, grow\, branch out\, and finally blossom. In this sense\, studio buildings such as Hobrechtstraße 31 are like cultural forests\, providing shade in overheated cities such as Berlin and inviting people to linger\, contemplate\, and question. \nIn contrast to this are exhibition spaces such as galleries and museums: exceptive spaces. These are spaces of presentation and reception set apart from everyday life. The pathway from inceptive to exceptive spaces is usually a long one. The transition from one to the other is like a black box\, with everything that happens in the studios remaining hidden from view: how ideas take shape\, how materials push back\, and how artworks emer-ge from experimentation. \nThe exhibition Inceptive Spaces seeks to open this black box and reveal what would otherwise remain invisib-le: processes\, atmospheres\, and fragments that mark the beginnings of art. American philosopher Nelson Goodman’s question “When is art?” – a modified version of the central question “What is art?” – highlights that an object’s status as art depends heavily on context\, most often on the space in which it is presented. This exhibition reverses that perspective. It is not the exhibition space but the production space – the studio – that becomes the decisive context. Here\, the answer to “When is art?” is: at the beginning\, during the creative process. The dialogue between production and presentation spaces creates a space within a space. Traces of the studio appear alongside finished works\, demonstrating that art does not come into existence suddenly but rather emerges from processes that require time\, space\, and care. Such a dialogue can only succeed when both spaces exist simultaneously. In the long run\, there can be no exceptive spaces without inceptive spaces. They are the foundation of what we perceive as culture – which requires time and space to grow. Artistic and cultural creation are inseparable from the process of artistic and cultural development. \nThe erosion of these beginnings inevitably leads to the decline of the institutions that ultimately seek to present art. As in nature\, it is also important in culture to practice ecological and economic sustainability: to resist the urge to prioritize short-term gains over long-term costs to society. For just as climate change will prove costly\, so too will the shift in the social climate – the effects of which we are already beginning to feel – if we fail to act. \nA city that abandons inceptive spaces such as Hobrechtstraße 31 deprives itself of fertile ground and will ulti-mately lie fallow. We should avoid thinning out our cultural forests because we can no longer see the wood for the trees. \nSerkan Gören & Saeed Foroghi \nAXEL OBIGER – Raum für zeitgenössische Kunst . Brunnenstr. 29\, 10119 Berlin Mitte . Th – Sa 3–7 pm and by appointment . axelobiger.com . @axelobiger
URL:https://www.projektraeume-berlin.net/termin/inceptive-spaces-group-exhibition-by-atelierhaus-hobrecht31/
LOCATION:Axel Obiger\, Brunnenstraße 29\, Berlin\, Berlin\, 10119\, Deutschland
CATEGORIES:Ausstellung,Drawing,Fotografie,Installation,Malerei,Rauminstallation,Video
ATTACH;FMTTYPE=image/jpeg:https://www.projektraeume-berlin.net/wp-content/uploads/2025/10/Flyer-Vertical-scaled-e1759654336485.jpg
END:VEVENT
END:VCALENDAR