BEGIN:VCALENDAR
VERSION:2.0
PRODID:-//Netzwerk freier Berliner Projekträume und –initiativen - ECPv6.15.12.2//NONSGML v1.0//EN
CALSCALE:GREGORIAN
METHOD:PUBLISH
X-WR-CALNAME:Netzwerk freier Berliner Projekträume und –initiativen
X-ORIGINAL-URL:https://www.projektraeume-berlin.net
X-WR-CALDESC:Veranstaltungen für Netzwerk freier Berliner Projekträume und –initiativen
REFRESH-INTERVAL;VALUE=DURATION:PT1H
X-Robots-Tag:noindex
X-PUBLISHED-TTL:PT1H
BEGIN:VTIMEZONE
TZID:Europe/Berlin
BEGIN:DAYLIGHT
TZOFFSETFROM:+0100
TZOFFSETTO:+0200
TZNAME:CEST
DTSTART:20200329T010000
END:DAYLIGHT
BEGIN:STANDARD
TZOFFSETFROM:+0200
TZOFFSETTO:+0100
TZNAME:CET
DTSTART:20201025T010000
END:STANDARD
BEGIN:DAYLIGHT
TZOFFSETFROM:+0100
TZOFFSETTO:+0200
TZNAME:CEST
DTSTART:20210328T010000
END:DAYLIGHT
BEGIN:STANDARD
TZOFFSETFROM:+0200
TZOFFSETTO:+0100
TZNAME:CET
DTSTART:20211031T010000
END:STANDARD
BEGIN:DAYLIGHT
TZOFFSETFROM:+0100
TZOFFSETTO:+0200
TZNAME:CEST
DTSTART:20220327T010000
END:DAYLIGHT
BEGIN:STANDARD
TZOFFSETFROM:+0200
TZOFFSETTO:+0100
TZNAME:CET
DTSTART:20221030T010000
END:STANDARD
END:VTIMEZONE
BEGIN:VEVENT
DTSTART;TZID=Europe/Berlin:20210924T180000
DTEND;TZID=Europe/Berlin:20210924T180000
DTSTAMP:20260423T230625
CREATED:20210916T191437Z
LAST-MODIFIED:20210916T191802Z
UID:14183-1632506400-1632506400@www.projektraeume-berlin.net
SUMMARY:T R A C I N G    T R A C E S
DESCRIPTION:Gruppenausstellung \n\nEine Ausstellung über die Spuren\, die wir in Form der Kultur\, die wir schaffen\, hinterlassen. Über die Spuren und Formen\, die die Natur schafft. \nDunkle Zeiten. Vielleicht haben wir sie schon einmal erlebt. Jedes Mal\, wenn sich die Welt verändert\, sagen einige von uns zu Recht eine Apokalypse voraus. \nWir sind Individuen in einer kleinen Gruppe. Wir erforschen\, interpretieren\, verarbeiten und assoziieren. Eine Zeit lang entsteht durch unsere gemeinsame Arbeit ein Stück\, eines von vielen Werken mit Stimmen über unsere Zeit.
URL:https://www.projektraeume-berlin.net/termin/t-r-a-c-i-n-g-t-r-a-c-e-s/
LOCATION:rosalux\, Wriezener Straße 12\, Berlin\, 13359\, Deutschland
CATEGORIES:Ausstellung,Vernissage
ATTACH;FMTTYPE=image/jpeg:https://www.projektraeume-berlin.net/wp-content/uploads/2021/09/DanLageryd800.jpg
ORGANIZER;CN="rosalux":MAILTO:info@rosalux.com
END:VEVENT
END:VCALENDAR