BEGIN:VCALENDAR
VERSION:2.0
PRODID:-//Netzwerk freier Berliner Projekträume und –initiativen - ECPv6.15.12.2//NONSGML v1.0//EN
CALSCALE:GREGORIAN
METHOD:PUBLISH
X-WR-CALNAME:Netzwerk freier Berliner Projekträume und –initiativen
X-ORIGINAL-URL:https://www.projektraeume-berlin.net
X-WR-CALDESC:Veranstaltungen für Netzwerk freier Berliner Projekträume und –initiativen
REFRESH-INTERVAL;VALUE=DURATION:PT1H
X-Robots-Tag:noindex
X-PUBLISHED-TTL:PT1H
BEGIN:VTIMEZONE
TZID:Europe/Berlin
BEGIN:DAYLIGHT
TZOFFSETFROM:+0100
TZOFFSETTO:+0200
TZNAME:CEST
DTSTART:20220327T010000
END:DAYLIGHT
BEGIN:STANDARD
TZOFFSETFROM:+0200
TZOFFSETTO:+0100
TZNAME:CET
DTSTART:20221030T010000
END:STANDARD
BEGIN:DAYLIGHT
TZOFFSETFROM:+0100
TZOFFSETTO:+0200
TZNAME:CEST
DTSTART:20230326T010000
END:DAYLIGHT
BEGIN:STANDARD
TZOFFSETFROM:+0200
TZOFFSETTO:+0100
TZNAME:CET
DTSTART:20231029T010000
END:STANDARD
BEGIN:DAYLIGHT
TZOFFSETFROM:+0100
TZOFFSETTO:+0200
TZNAME:CEST
DTSTART:20240331T010000
END:DAYLIGHT
BEGIN:STANDARD
TZOFFSETFROM:+0200
TZOFFSETTO:+0100
TZNAME:CET
DTSTART:20241027T010000
END:STANDARD
END:VTIMEZONE
BEGIN:VEVENT
DTSTART;TZID=Europe/Berlin:20231006T180000
DTEND;TZID=Europe/Berlin:20231006T220000
DTSTAMP:20260424T100136
CREATED:20230923T160513Z
LAST-MODIFIED:20231001T074807Z
UID:16515-1696615200-1696629600@www.projektraeume-berlin.net
SUMMARY:Eröffnung  SOFT MANIFOLDS  Anne Jungjohann / Enrico Niemann
DESCRIPTION:Ausstellung: 7. Oktober – 4. November 2023\nEröffnung am Freitag\, den 6. Oktober 2023\, 18-22 Uhr \n​In der Ausstellung von Anne Jungjohann und Enrico Niemann haben wir es mit vielschichtigen Prozessen zu tun\, die durch Ein- und Entfaltungen taktile Bildobjekte erzeugen. Sie zeigen und verbergen in ihrer ganz eigenen Herangehensweise die Subtilität gemalter und gefalteter Flächen. Hierdurch entstehen Bildobjekte\, die sich zwischen Zwei- und Dreidimensionalität bewegen. \nMannigfaltigkeit\, die auf unterschiedliche sinnliche Eindrücke und gleichfalls auf komplexe Flächen und Räume verweist\, steht bei Enrico Niemann und Anne Jungjohann für das Verformen und Herausfordern von Materialien\, um vielfältige Formen entstehen zu lassen.
URL:https://www.projektraeume-berlin.net/termin/eroeffnung-soft-manifolds-anne-jungjohann-enrico-niemann/
LOCATION:Axel Obiger\, Brunnenstraße 29\, Berlin\, Berlin\, 10119\, Deutschland
CATEGORIES:Ausstellung,Malerei,Skulptur
ATTACH;FMTTYPE=image/jpeg:https://www.projektraeume-berlin.net/wp-content/uploads/2023/09/banner_soft-manifolds_Anne-Jungjohann_Enrico-Niemann-web-e1698997566262.jpg
END:VEVENT
BEGIN:VEVENT
DTSTART;TZID=Europe/Berlin:20231007T150000
DTEND;TZID=Europe/Berlin:20231007T190000
DTSTAMP:20260424T100136
CREATED:20230923T162917Z
LAST-MODIFIED:20231016T072648Z
UID:16518-1696690800-1696705200@www.projektraeume-berlin.net
SUMMARY:"soft manifolds" Anne Jungjohann / Enrico Niemann
DESCRIPTION:Ausstellung: 7. Oktober – 4. November 2023\nEröffnung am Freitag\, den 6. Oktober 2023\, 18-22 Uhr \nEnglish text below\n​\nIn der Ausstellung von Anne Jungjohann und Enrico Niemann haben wir es mit vielschichtigen Prozessen zu tun\, die durch Ein- und Entfaltungen taktile Bildobjekte erzeugen. Sie zeigen und verbergen in ihrer ganz eigenen Herangehensweise die Subtilität gemalter und gefalteter Flächen. Hierdurch entstehen Bildobjekte\, die sich zwischen Zwei- und Dreidimensionalität bewegen.\nMannigfaltigkeit\, die auf unterschiedliche sinnliche Eindrücke und gleichfalls auf komplexe Flächen und Räume verweist\, steht bei Enrico Niemann und Anne Jungjohann für das Verformen und Herausfordern von Materialien\, um vielfältige Formen entstehen zu lassen. \nIn the exhibition by Anne Jungjohann and Enrico Niemann we are dealing with complex processes that create tactile image objects through folding and unfolding. In their own unique approach\, both artists show and hide the subtlety of painted and folded surfaces. This creates image objects that move between two- and three-dimensionality. In this context\, the term ‘manifolds’\, otherwise referring to a variety of sensual impressions and likewise to complex surfaces and spaces\, means to deform and challenge material to create an unexpected variety of shapes and motives.\n​ \nBiografische Notizen zu Anne Jungjohann und Enrico Niemann\n​\nAnne Jungjohann lebt und arbeitet in Berlin.\n2008- 2017 Studium Freie Kunst\, Universität der Künste Berlin\n2016 Diplom Bildende Kunst\, Universität der Künste Berlin\n2016 Stipendium Dorothea Konwiarz Foundation\, Berlin\n2017 Meisterschüler Professor Robert Lucander\, UdK Berlin\nHelmut- Thoma Prize\, Helmut- Thoma- Foundation\, Berlin.\n​\n​\nEnrico Niemann *1978\, lebt und arbeitet in Berlin\n2001-07 Studium Freie Kunst\, Bauhaus Universität Weimar\n2022 Stipendium Stiftung Kunstfond Bonn\n2021 Stipendium des MWFK Brandenburg\n2014 Residenz Künstlerhaus Schloss Wiepersdorf\, Stipendium Land Brandenburg\n2007/08 Graduiertenstipendium der Bauhaus-Uni Weimar und des Freistaates Thüringen.
URL:https://www.projektraeume-berlin.net/termin/soft-manifolds-anne-jungjohann-enrico-niemann/
LOCATION:Axel Obiger\, Brunnenstraße 29\, Berlin\, Berlin\, 10119\, Deutschland
CATEGORIES:Ausstellung,Malerei
ATTACH;FMTTYPE=image/jpeg:https://www.projektraeume-berlin.net/wp-content/uploads/2023/09/banner2_soft-manifolds_Anne-Jungjohann_Enrico-Niemann-web-e1698997500950.jpg
END:VEVENT
END:VCALENDAR