BEGIN:VCALENDAR
VERSION:2.0
PRODID:-//Netzwerk freier Berliner Projekträume und –initiativen - ECPv6.15.12.2//NONSGML v1.0//EN
CALSCALE:GREGORIAN
METHOD:PUBLISH
X-ORIGINAL-URL:https://www.projektraeume-berlin.net
X-WR-CALDESC:Veranstaltungen für Netzwerk freier Berliner Projekträume und –initiativen
REFRESH-INTERVAL;VALUE=DURATION:PT1H
X-Robots-Tag:noindex
X-PUBLISHED-TTL:PT1H
BEGIN:VTIMEZONE
TZID:Europe/Berlin
BEGIN:DAYLIGHT
TZOFFSETFROM:+0100
TZOFFSETTO:+0200
TZNAME:CEST
DTSTART:20250330T010000
END:DAYLIGHT
BEGIN:STANDARD
TZOFFSETFROM:+0200
TZOFFSETTO:+0100
TZNAME:CET
DTSTART:20251026T010000
END:STANDARD
BEGIN:DAYLIGHT
TZOFFSETFROM:+0100
TZOFFSETTO:+0200
TZNAME:CEST
DTSTART:20260329T010000
END:DAYLIGHT
BEGIN:STANDARD
TZOFFSETFROM:+0200
TZOFFSETTO:+0100
TZNAME:CET
DTSTART:20261025T010000
END:STANDARD
BEGIN:DAYLIGHT
TZOFFSETFROM:+0100
TZOFFSETTO:+0200
TZNAME:CEST
DTSTART:20270328T010000
END:DAYLIGHT
BEGIN:STANDARD
TZOFFSETFROM:+0200
TZOFFSETTO:+0100
TZNAME:CET
DTSTART:20271031T010000
END:STANDARD
END:VTIMEZONE
BEGIN:VEVENT
DTSTART;TZID=Europe/Berlin:20260110T183000
DTEND;TZID=Europe/Berlin:20260110T190000
DTSTAMP:20260423T061646
CREATED:20260104T173023Z
LAST-MODIFIED:20260104T173313Z
UID:17634-1768069800-1768071600@www.projektraeume-berlin.net
SUMMARY:A trans feat. Natalia Irina Roman: STRECKEN II STÜCKE
DESCRIPTION:Opening  \nSamstag\, 10.01.2026      18:30 Uhr  \nExhibition  \n11.01.2026 – 06.02.2026     24/7 \nSTRECKEN || STÜCKE is an installation by Natalia Irina Roman\, growing out of her long-term cooperation with Deutsche Bahn (since 2017) and BVG (since 2022). Within these collaborations\, she has transformed sites along the tracks — including former interlocking towers and train control rooms — into spaces for art. From this sustained engagement with the railway\, a range of formats has emerged\, in and along the train system\, in which train journeys themselves become artistic experiences. \nA train moves through the vitrine: station names\, S-Bahn windows and trains of thought collected between Vienna and Istanbul loosen\, drift and intertwine. The view from the train window subtly shifts — the everyday becomes charged\, and each journey turns into a new piece. \nNatalia Irina Roman is an installation artist and city researcher who has been developing site-specific works since 2010 across a wide range of contexts\, including large-scale and industrial spaces. Since 2017\, her artistic practice has increasingly unfolded in relation to the railway\, where art\, space and movement intersect. In 2024\, she worked in the railway context in New York City and its surroundings as a Fulbright fellow. In 2025\, she was invited to the conference „Railway Aesthetics“\, which took place on two trains travelling between Vienna and Istanbul. During the journey\, she collected the trains of thought of fellow passengers and presented her long-term work in the railway context. Her work has been shown in numerous solo and group exhibitions in Germany and internationally. Alongside her artistic practice\, she currently teaches at the Berlin University of the Arts (UdK) and previously led courses at the Bauhaus-Universität Weimar\, where train journeys themselves become sites of artistic exploration. \nFor further information: \nhttps://www.atrans.org/  |  https://www.nataliairinaroman.eu\nInstagram: @atrans  |  #gesternstellwerk auf www.instagram.com/sitespecificideas \nSupported by \nBerliner S-Bahn Museum  & Frauenförderfonds Bauhaus-Universität Weimar
URL:https://www.projektraeume-berlin.net/termin/a-trans-feat-natalia-irina-roman-strecken-ii-stuecke/
LOCATION:Vitrine U-Zoologischer Garten (U9)\, Hardenbergplatz\,\, Berlin\, Berlin\, 10787\, Deutschland
CATEGORIES:Ausstellung,Projekt im öffentlichen Raum,Vernissage
ATTACH;FMTTYPE=image/jpeg:https://www.projektraeume-berlin.net/wp-content/uploads/2026/01/Architektur-einer-Kooperation-e1769070293625.jpg
ORGANIZER;CN="A TRANS":MAILTO:in@atrans.org
END:VEVENT
END:VCALENDAR